BEGIN:VCALENDAR
VERSION:2.0
PRODID:-//AfD Kreisverband Hannover-Land - ECPv6.15.20//NONSGML v1.0//EN
CALSCALE:GREGORIAN
METHOD:PUBLISH
X-ORIGINAL-URL:https://afd-hannover-land.de
X-WR-CALDESC:Veranstaltungen für AfD Kreisverband Hannover-Land
REFRESH-INTERVAL;VALUE=DURATION:PT1H
X-Robots-Tag:noindex
X-PUBLISHED-TTL:PT1H
BEGIN:VTIMEZONE
TZID:Europe/Helsinki
BEGIN:DAYLIGHT
TZOFFSETFROM:+0200
TZOFFSETTO:+0300
TZNAME:EEST
DTSTART:20240331T010000
END:DAYLIGHT
BEGIN:STANDARD
TZOFFSETFROM:+0300
TZOFFSETTO:+0200
TZNAME:EET
DTSTART:20241027T010000
END:STANDARD
BEGIN:DAYLIGHT
TZOFFSETFROM:+0200
TZOFFSETTO:+0300
TZNAME:EEST
DTSTART:20250330T010000
END:DAYLIGHT
BEGIN:STANDARD
TZOFFSETFROM:+0300
TZOFFSETTO:+0200
TZNAME:EET
DTSTART:20251026T010000
END:STANDARD
BEGIN:DAYLIGHT
TZOFFSETFROM:+0200
TZOFFSETTO:+0300
TZNAME:EEST
DTSTART:20260329T010000
END:DAYLIGHT
BEGIN:STANDARD
TZOFFSETFROM:+0300
TZOFFSETTO:+0200
TZNAME:EET
DTSTART:20261025T010000
END:STANDARD
END:VTIMEZONE
BEGIN:VEVENT
DTSTART;TZID=Europe/Helsinki:20251107T183000
DTEND;TZID=Europe/Helsinki:20251107T183000
DTSTAMP:20260420T081840
CREATED:20251022T112250Z
LAST-MODIFIED:20251022T112250Z
UID:1755-1762540200-1762540200@afd-hannover-land.de
SUMMARY:Stammtisch Neustadt a. Rbge.
DESCRIPTION:Der Stadtverband Neustadt a. Rbge. lädt zum Stammtisch mit Rene Kühn und Rocco Kever ein. Kever wird über seine Arbeit im Bundestag berichten\, während Kühn die Kommunalwahl 2026 thematisiert. \nAnmeldung unter: rene.kuehn@afd-hannover-land.de \nInfo: Der Stammtisch findet in Neustadt a. Rbge. statt. Der genaue Ort wird drei Tage vor Beginn per Mail an alle Teilnehmer gesendet.
URL:https://afd-hannover-land.de/event/stammtisch-neustadt-a-rbge-5/
LOCATION:31535 Neustadt a. Rbge.
END:VEVENT
BEGIN:VEVENT
DTSTART;TZID=Europe/Helsinki:20251108T090000
DTEND;TZID=Europe/Helsinki:20251108T120000
DTSTAMP:20260420T081840
CREATED:20251104T175943Z
LAST-MODIFIED:20251104T175943Z
UID:1774-1762592400-1762603200@afd-hannover-land.de
SUMMARY:Infostand Garbsen
DESCRIPTION:Der AfD Stadtverband Hannover-Land-Nord-West ist in der Zeit von 09:00 Uhr bis 12:00 Uhr am Kastanienplatz anzutreffen sein! \nMit dabei: \nJürgen Alenberg\nRatsherr der Stadt Langenhagen\nStadtverbandsvorsitzender \nManfred Kammler\nMitglied der Regionsversammlung\nRatsherr der Stadt Garbsen \nRene Kühn\nMitglied der Regionsversammlung\nFraktionsvorsitzender der AfD-Regionsfraktion
URL:https://afd-hannover-land.de/event/infostand-garbsen/
END:VEVENT
END:VCALENDAR