BEGIN:VCALENDAR
VERSION:2.0
PRODID:-//AfD Kreisverband Hannover-Land - ECPv6.15.20//NONSGML v1.0//EN
CALSCALE:GREGORIAN
METHOD:PUBLISH
X-ORIGINAL-URL:https://afd-hannover-land.de
X-WR-CALDESC:Veranstaltungen für AfD Kreisverband Hannover-Land
REFRESH-INTERVAL;VALUE=DURATION:PT1H
X-Robots-Tag:noindex
X-PUBLISHED-TTL:PT1H
BEGIN:VTIMEZONE
TZID:Europe/Helsinki
BEGIN:DAYLIGHT
TZOFFSETFROM:+0200
TZOFFSETTO:+0300
TZNAME:EEST
DTSTART:20240331T010000
END:DAYLIGHT
BEGIN:STANDARD
TZOFFSETFROM:+0300
TZOFFSETTO:+0200
TZNAME:EET
DTSTART:20241027T010000
END:STANDARD
BEGIN:DAYLIGHT
TZOFFSETFROM:+0200
TZOFFSETTO:+0300
TZNAME:EEST
DTSTART:20250330T010000
END:DAYLIGHT
BEGIN:STANDARD
TZOFFSETFROM:+0300
TZOFFSETTO:+0200
TZNAME:EET
DTSTART:20251026T010000
END:STANDARD
BEGIN:DAYLIGHT
TZOFFSETFROM:+0200
TZOFFSETTO:+0300
TZNAME:EEST
DTSTART:20260329T010000
END:DAYLIGHT
BEGIN:STANDARD
TZOFFSETFROM:+0300
TZOFFSETTO:+0200
TZNAME:EET
DTSTART:20261025T010000
END:STANDARD
END:VTIMEZONE
BEGIN:VEVENT
DTSTART;TZID=Europe/Helsinki:20250813T180000
DTEND;TZID=Europe/Helsinki:20250813T180000
DTSTAMP:20260420T052732
CREATED:20250812T180420Z
LAST-MODIFIED:20250812T180420Z
UID:1667-1755108000-1755108000@afd-hannover-land.de
SUMMARY:Stammtisch Springe
DESCRIPTION:Der AfD-Stadtverband Springe lädt zum Stammtisch mit Angela Rudzka\, MdB ein. \nAnmeldung unter: wolfram.bednarski@t-online.de
URL:https://afd-hannover-land.de/event/stammtisch-springe-2/
LOCATION:31832 Springe\, Burgstraße 1
END:VEVENT
BEGIN:VEVENT
DTSTART;TZID=Europe/Helsinki:20250814T080000
DTEND;TZID=Europe/Helsinki:20250814T130000
DTSTAMP:20260420T052732
CREATED:20250812T181816Z
LAST-MODIFIED:20250812T181816Z
UID:1680-1755158400-1755176400@afd-hannover-land.de
SUMMARY:Infostand Gehrden
DESCRIPTION:Unser Infostand in Gehrden.
URL:https://afd-hannover-land.de/event/infostand-gehrden/
LOCATION:30989 Gehrden
END:VEVENT
BEGIN:VEVENT
DTSTART;TZID=Europe/Helsinki:20250816T090000
DTEND;TZID=Europe/Helsinki:20250816T120000
DTSTAMP:20260420T052732
CREATED:20250812T182049Z
LAST-MODIFIED:20250812T182049Z
UID:1685-1755334800-1755345600@afd-hannover-land.de
SUMMARY:Infostand Langenhagen
DESCRIPTION:Unser Infostand in Langenhagen.
URL:https://afd-hannover-land.de/event/infostand-langenhagen-2/
LOCATION:Markt Langenhagen
END:VEVENT
BEGIN:VEVENT
DTSTART;TZID=Europe/Helsinki:20250816T100000
DTEND;TZID=Europe/Helsinki:20250816T160000
DTSTAMP:20260420T052732
CREATED:20250812T181922Z
LAST-MODIFIED:20250812T181922Z
UID:1682-1755338400-1755360000@afd-hannover-land.de
SUMMARY:Infostand Burgdorf
DESCRIPTION:Unser Infostand in Burgdorf.
URL:https://afd-hannover-land.de/event/infostand-burgdorf/
LOCATION:Schützenplatz Burgdorf
END:VEVENT
BEGIN:VEVENT
DTSTART;TZID=Europe/Helsinki:20250820T180000
DTEND;TZID=Europe/Helsinki:20250820T180000
DTSTAMP:20260420T052732
CREATED:20250812T180549Z
LAST-MODIFIED:20250812T180549Z
UID:1669-1755712800-1755712800@afd-hannover-land.de
SUMMARY:Bitcoin - Freiheit hat 21 Mio. Gründe
DESCRIPTION:Bitcoin-Vortrag von MdB Dirk Brandes in Garbsen. \nAnmeldung unter: juergen.alenberg@afd-hannover-land.de
URL:https://afd-hannover-land.de/event/bitcoin-freiheit-hat-21-mio-gruende/
LOCATION:30827 Garbsen
END:VEVENT
BEGIN:VEVENT
DTSTART;TZID=Europe/Helsinki:20250822T180000
DTEND;TZID=Europe/Helsinki:20250822T180000
DTSTAMP:20260420T052732
CREATED:20250812T180955Z
LAST-MODIFIED:20250812T181006Z
UID:1671-1755885600-1755885600@afd-hannover-land.de
SUMMARY:Stimmt das\, AfD?
DESCRIPTION:Haben Sie Vorurteile gegen die AfD? Wir stellen und und beantworten alle Fragen – egal wie kritisch sie sind. \nUnsere Gäste: \n– Alfred Dannenberg\, MdL \n– Stefan Henze\, MdB \n– Jörn König\, MdB \n– Stephan Brandner\, MdB\, Parlamentarischer Geschäftsführer der Bundestagsfraktion \nEine Anmeldung ist nich erforderlich\, es ist jeder Willkommen\, der mit uns und nicht nur über uns sprechen will!
URL:https://afd-hannover-land.de/event/stimmt-das-afd/
LOCATION:Bürgerhaus Misburg\, Seckbruchstraße 20\, Hannover\, 30629
END:VEVENT
BEGIN:VEVENT
DTSTART;TZID=Europe/Helsinki:20250823T110000
DTEND;TZID=Europe/Helsinki:20250823T170000
DTSTAMP:20260420T052732
CREATED:20250812T181304Z
LAST-MODIFIED:20250812T181311Z
UID:1673-1755946800-1755968400@afd-hannover-land.de
SUMMARY:Landesgruppen-Sommerkonferenz
DESCRIPTION:Sommerkonferenz der Landesgruppe Niedersachsen/Hamburg/Bremen mit Rahmenprogramm für die ganze Familie.
URL:https://afd-hannover-land.de/event/landesgruppen-sommerkonferenz/
LOCATION:Eventlocation Isterberg GmbH\, Lehmstraße 1\, Isterberg\, 48465
END:VEVENT
BEGIN:VEVENT
DTSTART;TZID=Europe/Helsinki:20250829T180000
DTEND;TZID=Europe/Helsinki:20250829T180000
DTSTAMP:20260420T052732
CREATED:20250812T182356Z
LAST-MODIFIED:20250812T182356Z
UID:1692-1756490400-1756490400@afd-hannover-land.de
SUMMARY:Stammtisch Wedemark
DESCRIPTION:Stammtisch AfD-Stadtverband Wedemark mit Daniel Schälfer vom VfK Niedersachsen und dem Ratsherren Jürgen Alenberg. \nThema des Abends: Kommunalpolitik und Kommunale Mandate. \nAnmeldung unter: antje.lange@afd-hannover-land.de
URL:https://afd-hannover-land.de/event/stammtisch-wedemark-2/
LOCATION:30900 Wedemark
END:VEVENT
BEGIN:VEVENT
DTSTART;TZID=Europe/Helsinki:20250830T100000
DTEND;TZID=Europe/Helsinki:20250830T120000
DTSTAMP:20260420T052732
CREATED:20250812T182129Z
LAST-MODIFIED:20250812T182129Z
UID:1688-1756548000-1756555200@afd-hannover-land.de
SUMMARY:Infostand Wedemark
DESCRIPTION:Unser Infostand in der Wedemark.
URL:https://afd-hannover-land.de/event/infostand-wedemark/
LOCATION:30900 Wedemark
END:VEVENT
END:VCALENDAR