BEGIN:VCALENDAR
VERSION:2.0
PRODID:-//AfD Kreisverband Hannover-Land - ECPv6.15.20//NONSGML v1.0//EN
CALSCALE:GREGORIAN
METHOD:PUBLISH
X-WR-CALNAME:AfD Kreisverband Hannover-Land
X-ORIGINAL-URL:https://afd-hannover-land.de
X-WR-CALDESC:Veranstaltungen für AfD Kreisverband Hannover-Land
REFRESH-INTERVAL;VALUE=DURATION:PT1H
X-Robots-Tag:noindex
X-PUBLISHED-TTL:PT1H
BEGIN:VTIMEZONE
TZID:Europe/Helsinki
BEGIN:DAYLIGHT
TZOFFSETFROM:+0200
TZOFFSETTO:+0300
TZNAME:EEST
DTSTART:20230326T010000
END:DAYLIGHT
BEGIN:STANDARD
TZOFFSETFROM:+0300
TZOFFSETTO:+0200
TZNAME:EET
DTSTART:20231029T010000
END:STANDARD
BEGIN:DAYLIGHT
TZOFFSETFROM:+0200
TZOFFSETTO:+0300
TZNAME:EEST
DTSTART:20240331T010000
END:DAYLIGHT
BEGIN:STANDARD
TZOFFSETFROM:+0300
TZOFFSETTO:+0200
TZNAME:EET
DTSTART:20241027T010000
END:STANDARD
BEGIN:DAYLIGHT
TZOFFSETFROM:+0200
TZOFFSETTO:+0300
TZNAME:EEST
DTSTART:20250330T010000
END:DAYLIGHT
BEGIN:STANDARD
TZOFFSETFROM:+0300
TZOFFSETTO:+0200
TZNAME:EET
DTSTART:20251026T010000
END:STANDARD
END:VTIMEZONE
BEGIN:VEVENT
DTSTART;TZID=Europe/Helsinki:20240217T100000
DTEND;TZID=Europe/Helsinki:20240217T170000
DTSTAMP:20260419T190048
CREATED:20240229T200237Z
LAST-MODIFIED:20240229T200334Z
UID:1279-1708164000-1708189200@afd-hannover-land.de
SUMMARY:Kreisparteitag AfD Hannover-Land
DESCRIPTION:Ordentlicher Kreispareitag des Kreisverbandes Hannover-Land.
URL:https://afd-hannover-land.de/event/kreisparteitag-afd-hannover-land/
END:VEVENT
BEGIN:VEVENT
DTSTART;TZID=Europe/Helsinki:20240223T180000
DTEND;TZID=Europe/Helsinki:20240223T180000
DTSTAMP:20260419T190048
CREATED:20240229T200154Z
LAST-MODIFIED:20240229T200154Z
UID:1277-1708711200-1708711200@afd-hannover-land.de
SUMMARY:Ratsherrenstammtisch Ronnenberg
DESCRIPTION:Die AfD-Fraktion im Rat der Stadt Ronnenberg lädt zum Stammtisch ein. Neben berichten aus dem Rat wird Regionsabgeordneter Rocco Kever einen Vortrag über Windräder in Ronnenberg halten. \nAnmeldung unter: Ratsherr.MarkoNickel-AfD-Ronnenberg@gmx.de
URL:https://afd-hannover-land.de/event/ratsherrenstammtisch-ronnenberg/
END:VEVENT
END:VCALENDAR