BEGIN:VCALENDAR
VERSION:2.0
PRODID:-//AfD Kreisverband Hannover-Land - ECPv6.15.20//NONSGML v1.0//EN
CALSCALE:GREGORIAN
METHOD:PUBLISH
X-ORIGINAL-URL:https://afd-hannover-land.de
X-WR-CALDESC:Veranstaltungen für AfD Kreisverband Hannover-Land
REFRESH-INTERVAL;VALUE=DURATION:PT1H
X-Robots-Tag:noindex
X-PUBLISHED-TTL:PT1H
BEGIN:VTIMEZONE
TZID:Europe/Helsinki
BEGIN:DAYLIGHT
TZOFFSETFROM:+0200
TZOFFSETTO:+0300
TZNAME:EEST
DTSTART:20220327T010000
END:DAYLIGHT
BEGIN:STANDARD
TZOFFSETFROM:+0300
TZOFFSETTO:+0200
TZNAME:EET
DTSTART:20221030T010000
END:STANDARD
BEGIN:DAYLIGHT
TZOFFSETFROM:+0200
TZOFFSETTO:+0300
TZNAME:EEST
DTSTART:20230326T010000
END:DAYLIGHT
BEGIN:STANDARD
TZOFFSETFROM:+0300
TZOFFSETTO:+0200
TZNAME:EET
DTSTART:20231029T010000
END:STANDARD
BEGIN:DAYLIGHT
TZOFFSETFROM:+0200
TZOFFSETTO:+0300
TZNAME:EEST
DTSTART:20240331T010000
END:DAYLIGHT
BEGIN:STANDARD
TZOFFSETFROM:+0300
TZOFFSETTO:+0200
TZNAME:EET
DTSTART:20241027T010000
END:STANDARD
END:VTIMEZONE
BEGIN:VEVENT
DTSTART;TZID=Europe/Helsinki:20231202T100000
DTEND;TZID=Europe/Helsinki:20231202T140000
DTSTAMP:20260419T213550
CREATED:20231117T151109Z
LAST-MODIFIED:20231117T151109Z
UID:1168-1701511200-1701525600@afd-hannover-land.de
SUMMARY:Infostand Lehrte
DESCRIPTION:Der AfD Stadtverband Hannover-Land-Ost ist mit einem Infostand in der Zuckerpassage anzutreffen und freut sich auf Ihren Besuch!
URL:https://afd-hannover-land.de/event/infostand-lehrte/
END:VEVENT
BEGIN:VEVENT
DTSTART;TZID=Europe/Helsinki:20231208T180000
DTEND;TZID=Europe/Helsinki:20231208T180000
DTSTAMP:20260419T213550
CREATED:20231117T151225Z
LAST-MODIFIED:20231117T151320Z
UID:1170-1702058400-1702058400@afd-hannover-land.de
SUMMARY:Ratstammtisch Ronnenberg/Gehrden
DESCRIPTION:Ratsherr Marko Nickel läft zum Ratsstammtisch ein. \nAnmeldung unter: ratsherr.markonickel-afd-ronnenberg@gmx.de
URL:https://afd-hannover-land.de/event/ratstammtisch-ronnenberg-gehrden/
LOCATION:30989 Gehrden
END:VEVENT
BEGIN:VEVENT
DTSTART;TZID=Europe/Helsinki:20231215T090000
DTEND;TZID=Europe/Helsinki:20231215T130000
DTSTAMP:20260419T213550
CREATED:20231117T151921Z
LAST-MODIFIED:20231117T151921Z
UID:1175-1702630800-1702645200@afd-hannover-land.de
SUMMARY:Infostand Neustadt a. Rbge.
DESCRIPTION:Der AfD Stadtverband wird mit seinem Infostand in der Marktstraße (Gegenüber von Bäcker Raute) anzutreffen sein und freut sich auf Ihren Besuch!
URL:https://afd-hannover-land.de/event/infostand-neustadt-a-rbge/
LOCATION:Marktstraße\, 31535 Neustadt a. Rbge.
END:VEVENT
BEGIN:VEVENT
DTSTART;TZID=Europe/Helsinki:20231215T183000
DTEND;TZID=Europe/Helsinki:20231215T183000
DTSTAMP:20260419T213550
CREATED:20231119T183959Z
LAST-MODIFIED:20231119T184119Z
UID:1183-1702665000-1702665000@afd-hannover-land.de
SUMMARY:Weihnachtsfeier Stadtverband Neustadt a. Rbge.
DESCRIPTION:Der Stadtverband Neustadt am Rübenberge lädt zur diesjährigen Weihnachtsfeier ein. \nNeben einem etwas anderen Jahresrückblick mit vielen\, lustigen Momenten\, wird es ein leckeres\, weihnachtliches Büfett* geben. Kosten pro Person betragen 24\,90€. \nÜber eine rege Teilnahme freuen wir uns. Natürlich sind auch Gäste aus anderen Stadt\,- und Kreisverbänden gerne gesehen. \nDie Platzzahl ist begrenzt\, daher empfehlen wir eine zeitige Anmeldung.\nBitte melden Sie sich mit Angabe der Personenzahl bis zum 05.12.2023 unter folgender Emailadresse an: rene.kuehn@afd-hannover-land.de \n  \n*Vegetarier\, Veganer und Personen mit Unverträglichkeiten bitten wir\, bei der Anmeldung entsprechend darauf hinzuweisen. Der Gastwirt wird dafür entsprechende Alternativen zur Verfügung stellen.
URL:https://afd-hannover-land.de/event/weihnachtsfeier-stadtverband-neustadt-a-rbge/
LOCATION:31535 Neustadt a. Rbge.
END:VEVENT
BEGIN:VEVENT
DTSTART;VALUE=DATE:20231218
DTEND;VALUE=DATE:20231220
DTSTAMP:20260419T213550
CREATED:20231015T102511Z
LAST-MODIFIED:20231015T102511Z
UID:1136-1702857600-1703030399@afd-hannover-land.de
SUMMARY:BPA-Fahrt mit Dirk Brandes\, MdB
DESCRIPTION:Bundestagsabgeordneter Dirk Brandes lädt zu seiner BPA Fahrt ein. \nAbfahrt mit dem Reisebus ab Hannover\, Zustieg in Braunschweig möglich. \nIn Berlin werden verschiedene Orte besichtigt. Übernachtung im Doppelzimmer sowie ein Essen am Tag werden übernommen.
URL:https://afd-hannover-land.de/event/bpa-fahrt-mit-dirk-brandes-mdb-2/
LOCATION:Berlin
END:VEVENT
END:VCALENDAR