BEGIN:VCALENDAR
VERSION:2.0
PRODID:-//AfD Kreisverband Hannover-Land - ECPv6.15.20//NONSGML v1.0//EN
CALSCALE:GREGORIAN
METHOD:PUBLISH
X-WR-CALNAME:AfD Kreisverband Hannover-Land
X-ORIGINAL-URL:https://afd-hannover-land.de
X-WR-CALDESC:Veranstaltungen für AfD Kreisverband Hannover-Land
REFRESH-INTERVAL;VALUE=DURATION:PT1H
X-Robots-Tag:noindex
X-PUBLISHED-TTL:PT1H
BEGIN:VTIMEZONE
TZID:Europe/Helsinki
BEGIN:DAYLIGHT
TZOFFSETFROM:+0200
TZOFFSETTO:+0300
TZNAME:EEST
DTSTART:20220327T010000
END:DAYLIGHT
BEGIN:STANDARD
TZOFFSETFROM:+0300
TZOFFSETTO:+0200
TZNAME:EET
DTSTART:20221030T010000
END:STANDARD
BEGIN:DAYLIGHT
TZOFFSETFROM:+0200
TZOFFSETTO:+0300
TZNAME:EEST
DTSTART:20230326T010000
END:DAYLIGHT
BEGIN:STANDARD
TZOFFSETFROM:+0300
TZOFFSETTO:+0200
TZNAME:EET
DTSTART:20231029T010000
END:STANDARD
BEGIN:DAYLIGHT
TZOFFSETFROM:+0200
TZOFFSETTO:+0300
TZNAME:EEST
DTSTART:20240331T010000
END:DAYLIGHT
BEGIN:STANDARD
TZOFFSETFROM:+0300
TZOFFSETTO:+0200
TZNAME:EET
DTSTART:20241027T010000
END:STANDARD
END:VTIMEZONE
BEGIN:VEVENT
DTSTART;VALUE=DATE:20231005
DTEND;VALUE=DATE:20231007
DTSTAMP:20260420T001812
CREATED:20230819T210342Z
LAST-MODIFIED:20230902T190136Z
UID:1093-1696464000-1696636799@afd-hannover-land.de
SUMMARY:BPA Fahrt mit Dietmar Friedhoff\, MdB
DESCRIPTION:Der Bundestagsabgeordnete Dietmar Friedhoff lädt Sie herzlichst zu einer 2-tägigen Fahrt nach Berlin ein. \nAuf dem Programm stehen u.a.: \n– Besuch in Ministerien\, Botschaften und Institutionen\n– Stadtrundfahrt durch das politische Berlin \nDie Gruppe fährt aus Hannover gemeinsam nach Berlin und wieder zurück. Kosten für Bus\, Hotel und Mahlzeiten werden übernommen.
URL:https://afd-hannover-land.de/event/bpa-fahrt-mit-dietmar-friedhoff/
LOCATION:Berlin
END:VEVENT
BEGIN:VEVENT
DTSTART;TZID=Europe/Helsinki:20231020T180000
DTEND;TZID=Europe/Helsinki:20231020T180000
DTSTAMP:20260420T001812
CREATED:20231019T183546Z
LAST-MODIFIED:20231019T183546Z
UID:1140-1697824800-1697824800@afd-hannover-land.de
SUMMARY:Vortrag Dietmar Friedhoff\, MdB
DESCRIPTION:Bundestagsabgeordneter Dietmar Friedhoff lädt zu einem Votrag zur Lage der Globalen Situation ein. \nVoranmeldung unter: www.dietmar-friedhoff.de/anmelden/
URL:https://afd-hannover-land.de/event/vortrag-dietmar-friedhoff-mdb/
LOCATION:30827 Garbsen
END:VEVENT
BEGIN:VEVENT
DTSTART;TZID=Europe/Helsinki:20231021T120000
DTEND;TZID=Europe/Helsinki:20231021T120000
DTSTAMP:20260420T001812
CREATED:20231019T183350Z
LAST-MODIFIED:20231019T183350Z
UID:1138-1697889600-1697889600@afd-hannover-land.de
SUMMARY:Stammtisch Barsinghausen
DESCRIPTION:Der AfD Stadtverband Barsinghausen lädt zum Mittagsstammtisch ein. \nVoranmeldung unter: siedler@pcae.de
URL:https://afd-hannover-land.de/event/stammtisch-barsinghausen-2/
LOCATION:30890 Barsinghausen
END:VEVENT
BEGIN:VEVENT
DTSTART;TZID=Europe/Helsinki:20231028T080000
DTEND;TZID=Europe/Helsinki:20231028T180000
DTSTAMP:20260420T001812
CREATED:20231019T183947Z
LAST-MODIFIED:20231019T183947Z
UID:1143-1698480000-1698516000@afd-hannover-land.de
SUMMARY:Stammtisch Wedemark
DESCRIPTION:Der AfD Gemeindeverband Wedemark lädt zum Stammtisch ein. Als Gastredner sind die beiden Landtagsabgeordneten Alfred Dannenberg und Marcel Queckemeyer vor Ort\, die zum Thema Wolf sprechen werden. \nVoranmeldung unter: antje.lange@afd-hannover-land.de
URL:https://afd-hannover-land.de/event/stammtisch-wedemark/
LOCATION:30900 Wedemark
END:VEVENT
END:VCALENDAR