BEGIN:VCALENDAR
VERSION:2.0
PRODID:-//AfD Kreisverband Hannover-Land - ECPv6.15.20//NONSGML v1.0//EN
CALSCALE:GREGORIAN
METHOD:PUBLISH
X-WR-CALNAME:AfD Kreisverband Hannover-Land
X-ORIGINAL-URL:https://afd-hannover-land.de
X-WR-CALDESC:Veranstaltungen für AfD Kreisverband Hannover-Land
REFRESH-INTERVAL;VALUE=DURATION:PT1H
X-Robots-Tag:noindex
X-PUBLISHED-TTL:PT1H
BEGIN:VTIMEZONE
TZID:Europe/Helsinki
BEGIN:DAYLIGHT
TZOFFSETFROM:+0200
TZOFFSETTO:+0300
TZNAME:EEST
DTSTART:20250330T010000
END:DAYLIGHT
BEGIN:STANDARD
TZOFFSETFROM:+0300
TZOFFSETTO:+0200
TZNAME:EET
DTSTART:20251026T010000
END:STANDARD
BEGIN:DAYLIGHT
TZOFFSETFROM:+0200
TZOFFSETTO:+0300
TZNAME:EEST
DTSTART:20260329T010000
END:DAYLIGHT
BEGIN:STANDARD
TZOFFSETFROM:+0300
TZOFFSETTO:+0200
TZNAME:EET
DTSTART:20261025T010000
END:STANDARD
BEGIN:DAYLIGHT
TZOFFSETFROM:+0200
TZOFFSETTO:+0300
TZNAME:EEST
DTSTART:20270328T010000
END:DAYLIGHT
BEGIN:STANDARD
TZOFFSETFROM:+0300
TZOFFSETTO:+0200
TZNAME:EET
DTSTART:20271031T010000
END:STANDARD
END:VTIMEZONE
BEGIN:VEVENT
DTSTART;TZID=Europe/Helsinki:20260213T180000
DTEND;TZID=Europe/Helsinki:20260213T180000
DTSTAMP:20260420T135037
CREATED:20260128T155020Z
LAST-MODIFIED:20260128T155100Z
UID:1837-1771005600-1771005600@afd-hannover-land.de
SUMMARY:Stammtisch Langenhagen
DESCRIPTION:Der Stadtverband Hannover-Land-Nord-West lädt zum Stammtisch mit Stadtverbandsvorsitzenden und Ratsherren Jürgen Alenberg\, sowie den Landesvorsitzenden Ansgar Schledde\, MdL am 13.02.2026 um 18:00 Uhr ein. \n\n\n\nAnmeldung unteR: juergen.alenberg@afd-hannover-land.de
URL:https://afd-hannover-land.de/event/stammtisch-wunstorf-4/
LOCATION:30855 Langenhagen
END:VEVENT
END:VCALENDAR