BEGIN:VCALENDAR
VERSION:2.0
PRODID:-//AfD Kreisverband Hannover-Land - ECPv6.15.20//NONSGML v1.0//EN
CALSCALE:GREGORIAN
METHOD:PUBLISH
X-WR-CALNAME:AfD Kreisverband Hannover-Land
X-ORIGINAL-URL:https://afd-hannover-land.de
X-WR-CALDESC:Veranstaltungen für AfD Kreisverband Hannover-Land
REFRESH-INTERVAL;VALUE=DURATION:PT1H
X-Robots-Tag:noindex
X-PUBLISHED-TTL:PT1H
BEGIN:VTIMEZONE
TZID:Europe/Helsinki
BEGIN:DAYLIGHT
TZOFFSETFROM:+0200
TZOFFSETTO:+0300
TZNAME:EEST
DTSTART:20240331T010000
END:DAYLIGHT
BEGIN:STANDARD
TZOFFSETFROM:+0300
TZOFFSETTO:+0200
TZNAME:EET
DTSTART:20241027T010000
END:STANDARD
BEGIN:DAYLIGHT
TZOFFSETFROM:+0200
TZOFFSETTO:+0300
TZNAME:EEST
DTSTART:20250330T010000
END:DAYLIGHT
BEGIN:STANDARD
TZOFFSETFROM:+0300
TZOFFSETTO:+0200
TZNAME:EET
DTSTART:20251026T010000
END:STANDARD
BEGIN:DAYLIGHT
TZOFFSETFROM:+0200
TZOFFSETTO:+0300
TZNAME:EEST
DTSTART:20260329T010000
END:DAYLIGHT
BEGIN:STANDARD
TZOFFSETFROM:+0300
TZOFFSETTO:+0200
TZNAME:EET
DTSTART:20261025T010000
END:STANDARD
END:VTIMEZONE
BEGIN:VEVENT
DTSTART;TZID=Europe/Helsinki:20251206T090000
DTEND;TZID=Europe/Helsinki:20251206T120000
DTSTAMP:20260420T110751
CREATED:20251201T100505Z
LAST-MODIFIED:20251201T100505Z
UID:1815-1765011600-1765022400@afd-hannover-land.de
SUMMARY:Infostand Garbsen
DESCRIPTION:Der Stadtverband Hannover-Land-Nord-West ist am 06.12.2025 von 09:00 Uhr bis 12:00 Uhr am Kastanienplatz in Garbsen für Sie da.
URL:https://afd-hannover-land.de/event/infostand-garbsen-2/
END:VEVENT
BEGIN:VEVENT
DTSTART;TZID=Europe/Helsinki:20251206T100000
DTEND;TZID=Europe/Helsinki:20251206T140000
DTSTAMP:20260420T110751
CREATED:20251201T100609Z
LAST-MODIFIED:20251201T100609Z
UID:1817-1765015200-1765029600@afd-hannover-land.de
SUMMARY:Infostand Lehrte
DESCRIPTION:Der Stadtverband Hannover-Land-Ost ist am 06.12.2025 von 10:00 Uhr bis 14:00 Uhr in der Zuckerpassage für Sie da.
URL:https://afd-hannover-land.de/event/infostand-lehrte-2/
LOCATION:Lehrte
END:VEVENT
BEGIN:VEVENT
DTSTART;TZID=Europe/Helsinki:20251206T100000
DTEND;TZID=Europe/Helsinki:20251206T140000
DTSTAMP:20260420T110751
CREATED:20251201T100719Z
LAST-MODIFIED:20251201T100719Z
UID:1820-1765015200-1765029600@afd-hannover-land.de
SUMMARY:Infostand Uetze
DESCRIPTION:Der Stadtverband Hannover-Land-Ost ist am 06.12.2025 von 10:00 Uhr bis 14:00 Uhr am Hindenburgplatz für Sie da.
URL:https://afd-hannover-land.de/event/infostand-uetze/
LOCATION:Uetze
END:VEVENT
END:VCALENDAR