BEGIN:VCALENDAR
VERSION:2.0
PRODID:-//AfD Kreisverband Hannover-Land - ECPv6.15.20//NONSGML v1.0//EN
CALSCALE:GREGORIAN
METHOD:PUBLISH
X-WR-CALNAME:AfD Kreisverband Hannover-Land
X-ORIGINAL-URL:https://afd-hannover-land.de
X-WR-CALDESC:Veranstaltungen für AfD Kreisverband Hannover-Land
REFRESH-INTERVAL;VALUE=DURATION:PT1H
X-Robots-Tag:noindex
X-PUBLISHED-TTL:PT1H
BEGIN:VTIMEZONE
TZID:Europe/Helsinki
BEGIN:DAYLIGHT
TZOFFSETFROM:+0200
TZOFFSETTO:+0300
TZNAME:EEST
DTSTART:20240331T010000
END:DAYLIGHT
BEGIN:STANDARD
TZOFFSETFROM:+0300
TZOFFSETTO:+0200
TZNAME:EET
DTSTART:20241027T010000
END:STANDARD
BEGIN:DAYLIGHT
TZOFFSETFROM:+0200
TZOFFSETTO:+0300
TZNAME:EEST
DTSTART:20250330T010000
END:DAYLIGHT
BEGIN:STANDARD
TZOFFSETFROM:+0300
TZOFFSETTO:+0200
TZNAME:EET
DTSTART:20251026T010000
END:STANDARD
BEGIN:DAYLIGHT
TZOFFSETFROM:+0200
TZOFFSETTO:+0300
TZNAME:EEST
DTSTART:20260329T010000
END:DAYLIGHT
BEGIN:STANDARD
TZOFFSETFROM:+0300
TZOFFSETTO:+0200
TZNAME:EET
DTSTART:20261025T010000
END:STANDARD
END:VTIMEZONE
BEGIN:VEVENT
DTSTART;TZID=Europe/Helsinki:20250920T090000
DTEND;TZID=Europe/Helsinki:20250920T120000
DTSTAMP:20260420T065446
CREATED:20250910T081713Z
LAST-MODIFIED:20250910T081713Z
UID:1731-1758358800-1758369600@afd-hannover-land.de
SUMMARY:Infostand Langenhagen
DESCRIPTION:Ob Fragen\, Lob\, Kritik oder ein lockerer Schnack – besuchen Sie den Infostand der AfD Hannover-Land-Nord-West und lassen Sie uns miteinander statt übereinander sprechen.
URL:https://afd-hannover-land.de/event/infostand-langenhagen-3/
LOCATION:Marktplatz\, 30853 Langenhagen
END:VEVENT
END:VCALENDAR