BEGIN:VCALENDAR
VERSION:2.0
PRODID:-//AfD Kreisverband Hannover-Land - ECPv6.15.20//NONSGML v1.0//EN
CALSCALE:GREGORIAN
METHOD:PUBLISH
X-WR-CALNAME:AfD Kreisverband Hannover-Land
X-ORIGINAL-URL:https://afd-hannover-land.de
X-WR-CALDESC:Veranstaltungen für AfD Kreisverband Hannover-Land
REFRESH-INTERVAL;VALUE=DURATION:PT1H
X-Robots-Tag:noindex
X-PUBLISHED-TTL:PT1H
BEGIN:VTIMEZONE
TZID:Europe/Helsinki
BEGIN:DAYLIGHT
TZOFFSETFROM:+0200
TZOFFSETTO:+0300
TZNAME:EEST
DTSTART:20240331T010000
END:DAYLIGHT
BEGIN:STANDARD
TZOFFSETFROM:+0300
TZOFFSETTO:+0200
TZNAME:EET
DTSTART:20241027T010000
END:STANDARD
BEGIN:DAYLIGHT
TZOFFSETFROM:+0200
TZOFFSETTO:+0300
TZNAME:EEST
DTSTART:20250330T010000
END:DAYLIGHT
BEGIN:STANDARD
TZOFFSETFROM:+0300
TZOFFSETTO:+0200
TZNAME:EET
DTSTART:20251026T010000
END:STANDARD
BEGIN:DAYLIGHT
TZOFFSETFROM:+0200
TZOFFSETTO:+0300
TZNAME:EEST
DTSTART:20260329T010000
END:DAYLIGHT
BEGIN:STANDARD
TZOFFSETFROM:+0300
TZOFFSETTO:+0200
TZNAME:EET
DTSTART:20261025T010000
END:STANDARD
END:VTIMEZONE
BEGIN:VEVENT
DTSTART;TZID=Europe/Helsinki:20250913T140000
DTEND;TZID=Europe/Helsinki:20250913T180000
DTSTAMP:20260420T065359
CREATED:20250910T081106Z
LAST-MODIFIED:20250910T081106Z
UID:1723-1757772000-1757786400@afd-hannover-land.de
SUMMARY:Grillfest Kreisverband Hannover-Land
DESCRIPTION:Der Kreisverband Hannover-Land lädt zum großen Grillfest für die ganze Familie ein. Neben leckeren Essen und kühlen Getränken gibt es auch Angebote\, wie z.B. eine Hüpfburg\, für die Kinder. \nAnmeldung unter: antje.lange@afd-hannover-land.de
URL:https://afd-hannover-land.de/event/grillfest-kreisverband-hannover-land/
LOCATION:31535 Neustadt a. Rbge.
END:VEVENT
END:VCALENDAR