BEGIN:VCALENDAR
VERSION:2.0
PRODID:-//AfD Kreisverband Hannover-Land - ECPv6.15.20//NONSGML v1.0//EN
CALSCALE:GREGORIAN
METHOD:PUBLISH
X-ORIGINAL-URL:https://afd-hannover-land.de
X-WR-CALDESC:Veranstaltungen für AfD Kreisverband Hannover-Land
REFRESH-INTERVAL;VALUE=DURATION:PT1H
X-Robots-Tag:noindex
X-PUBLISHED-TTL:PT1H
BEGIN:VTIMEZONE
TZID:Europe/Helsinki
BEGIN:DAYLIGHT
TZOFFSETFROM:+0200
TZOFFSETTO:+0300
TZNAME:EEST
DTSTART:20230326T010000
END:DAYLIGHT
BEGIN:STANDARD
TZOFFSETFROM:+0300
TZOFFSETTO:+0200
TZNAME:EET
DTSTART:20231029T010000
END:STANDARD
BEGIN:DAYLIGHT
TZOFFSETFROM:+0200
TZOFFSETTO:+0300
TZNAME:EEST
DTSTART:20240331T010000
END:DAYLIGHT
BEGIN:STANDARD
TZOFFSETFROM:+0300
TZOFFSETTO:+0200
TZNAME:EET
DTSTART:20241027T010000
END:STANDARD
BEGIN:DAYLIGHT
TZOFFSETFROM:+0200
TZOFFSETTO:+0300
TZNAME:EEST
DTSTART:20250330T010000
END:DAYLIGHT
BEGIN:STANDARD
TZOFFSETFROM:+0300
TZOFFSETTO:+0200
TZNAME:EET
DTSTART:20251026T010000
END:STANDARD
END:VTIMEZONE
BEGIN:VEVENT
DTSTART;TZID=Europe/Helsinki:20240405T180000
DTEND;TZID=Europe/Helsinki:20240405T180000
DTSTAMP:20260419T174819
CREATED:20240315T212644Z
LAST-MODIFIED:20240319T181932Z
UID:1294-1712340000-1712340000@afd-hannover-land.de
SUMMARY:Stammtisch Neustadt a. Rbge.
DESCRIPTION:Der AfD-Stadtverband lädt zum Stammtisch ein. \nAls Gastredner ist der Landtagsabgeordnete Alfred Dannenberg vor Ort\, der einen spannenden Vortrag zum Thema Wolf halten wird. Anschließend wird er in einer Diskussionsrunde die Fragen der Gäste beantworten. \nDanach besteht die Möglichkeit\, sich auszutauschen und den Abend ausklingen zu lassen. Dafür wird ein Büffet bereitgestellt\, welches pro Person 15-20 Euro kosten wird. \nAnmeldung unter: Rene.kuehn@afd-hannover-land.de
URL:https://afd-hannover-land.de/event/stammtisch-neustadt-a-rbge-2/
LOCATION:31535 Neustadt a. Rbge.
END:VEVENT
BEGIN:VEVENT
DTSTART;TZID=Europe/Helsinki:20240405T180000
DTEND;TZID=Europe/Helsinki:20240405T180000
DTSTAMP:20260419T174819
CREATED:20240319T182220Z
LAST-MODIFIED:20240319T182226Z
UID:1299-1712340000-1712340000@afd-hannover-land.de
SUMMARY:Stammtisch Hannover-Land-Nord-West
DESCRIPTION:Der AfD Stadtverband Hannover-Land-Nord-West lädt zum Stammtisch ein. Ein Fokus wird hier auf Interessenten der AfD gesetzt. \nNach einem Impulsvortrag stehen der Stadtverbandsvorsitzende und Langenhagener Ratsherr Jürgen Alenberg und der Kreisvorsitzende und Bundestagsabgeordneter Dirk Brandes den Interessenten Rede und Antwort. \nAnmeldung unter: juergen.alenberg@afd-hannover-land.de
URL:https://afd-hannover-land.de/event/stammtisch-hannover-land-nord-west-4/
END:VEVENT
END:VCALENDAR