BEGIN:VCALENDAR
VERSION:2.0
PRODID:-//AfD Kreisverband Hannover-Land - ECPv6.15.20//NONSGML v1.0//EN
CALSCALE:GREGORIAN
METHOD:PUBLISH
X-WR-CALNAME:AfD Kreisverband Hannover-Land
X-ORIGINAL-URL:https://afd-hannover-land.de
X-WR-CALDESC:Veranstaltungen für AfD Kreisverband Hannover-Land
REFRESH-INTERVAL;VALUE=DURATION:PT1H
X-Robots-Tag:noindex
X-PUBLISHED-TTL:PT1H
BEGIN:VTIMEZONE
TZID:Europe/Helsinki
BEGIN:DAYLIGHT
TZOFFSETFROM:+0200
TZOFFSETTO:+0300
TZNAME:EEST
DTSTART:20230326T010000
END:DAYLIGHT
BEGIN:STANDARD
TZOFFSETFROM:+0300
TZOFFSETTO:+0200
TZNAME:EET
DTSTART:20231029T010000
END:STANDARD
BEGIN:DAYLIGHT
TZOFFSETFROM:+0200
TZOFFSETTO:+0300
TZNAME:EEST
DTSTART:20240331T010000
END:DAYLIGHT
BEGIN:STANDARD
TZOFFSETFROM:+0300
TZOFFSETTO:+0200
TZNAME:EET
DTSTART:20241027T010000
END:STANDARD
BEGIN:DAYLIGHT
TZOFFSETFROM:+0200
TZOFFSETTO:+0300
TZNAME:EEST
DTSTART:20250330T010000
END:DAYLIGHT
BEGIN:STANDARD
TZOFFSETFROM:+0300
TZOFFSETTO:+0200
TZNAME:EET
DTSTART:20251026T010000
END:STANDARD
END:VTIMEZONE
BEGIN:VEVENT
DTSTART;TZID=Europe/Helsinki:20240309T100000
DTEND;TZID=Europe/Helsinki:20240309T140000
DTSTAMP:20260419T201215
CREATED:20240307T214506Z
LAST-MODIFIED:20240307T214506Z
UID:1289-1709978400-1709992800@afd-hannover-land.de
SUMMARY:Infostand Hannover-Land-Süd
DESCRIPTION:Infostand des Stadtverbandes Hannover-Land-Süd auf dem Leineplatz vor dem Leine-Center in Laatzen. Wir freuen uns auf Ihren Besuch!
URL:https://afd-hannover-land.de/event/infostand-hannover-land-sued/
LOCATION:30880 Laatzen\, Marktplatz 2
END:VEVENT
END:VCALENDAR