BEGIN:VCALENDAR
VERSION:2.0
PRODID:-//AfD Kreisverband Hannover-Land - ECPv6.15.20//NONSGML v1.0//EN
CALSCALE:GREGORIAN
METHOD:PUBLISH
X-ORIGINAL-URL:https://afd-hannover-land.de
X-WR-CALDESC:Veranstaltungen für AfD Kreisverband Hannover-Land
REFRESH-INTERVAL;VALUE=DURATION:PT1H
X-Robots-Tag:noindex
X-PUBLISHED-TTL:PT1H
BEGIN:VTIMEZONE
TZID:Europe/Helsinki
BEGIN:DAYLIGHT
TZOFFSETFROM:+0200
TZOFFSETTO:+0300
TZNAME:EEST
DTSTART:20220327T010000
END:DAYLIGHT
BEGIN:STANDARD
TZOFFSETFROM:+0300
TZOFFSETTO:+0200
TZNAME:EET
DTSTART:20221030T010000
END:STANDARD
BEGIN:DAYLIGHT
TZOFFSETFROM:+0200
TZOFFSETTO:+0300
TZNAME:EEST
DTSTART:20230326T010000
END:DAYLIGHT
BEGIN:STANDARD
TZOFFSETFROM:+0300
TZOFFSETTO:+0200
TZNAME:EET
DTSTART:20231029T010000
END:STANDARD
BEGIN:DAYLIGHT
TZOFFSETFROM:+0200
TZOFFSETTO:+0300
TZNAME:EEST
DTSTART:20240331T010000
END:DAYLIGHT
BEGIN:STANDARD
TZOFFSETFROM:+0300
TZOFFSETTO:+0200
TZNAME:EET
DTSTART:20241027T010000
END:STANDARD
END:VTIMEZONE
BEGIN:VEVENT
DTSTART;TZID=Europe/Helsinki:20230603T140000
DTEND;TZID=Europe/Helsinki:20230603T140000
DTSTAMP:20260420T071730
CREATED:20230516T105405Z
LAST-MODIFIED:20230524T195104Z
UID:998-1685800800-1685800800@afd-hannover-land.de
SUMMARY:Grillfest Wunstorf/Neustadt
DESCRIPTION:Die beiden Stadtverbände der AfD Neustadt und Wunstorf laden zum gemeinsamen Grillen im neustädter Raum\, nahe der Kernstadt\, ein. \nDas Grillfest ist für die ganze Familie\, wir freuen uns also auch\, wenn Sie Ihren Partner/Ihre Partnerin und Ihre Kinder mitbringen. \n  \nFür Fragen schreiben Sie uns gerne an. \nFür eine bessere Planung bitten wir um Anmeldung bis zum 31.05.2023 unter: ma01.Schuelke.afd@gmx.de
URL:https://afd-hannover-land.de/event/grillfest-wunstorf-neustadt/
LOCATION:31535 Neustadt a. Rbge.
END:VEVENT
END:VCALENDAR