BEGIN:VCALENDAR
VERSION:2.0
PRODID:-//AfD Kreisverband Hannover-Land - ECPv6.15.20//NONSGML v1.0//EN
CALSCALE:GREGORIAN
METHOD:PUBLISH
X-ORIGINAL-URL:https://afd-hannover-land.de
X-WR-CALDESC:Veranstaltungen für AfD Kreisverband Hannover-Land
REFRESH-INTERVAL;VALUE=DURATION:PT1H
X-Robots-Tag:noindex
X-PUBLISHED-TTL:PT1H
BEGIN:VTIMEZONE
TZID:Europe/Helsinki
BEGIN:DAYLIGHT
TZOFFSETFROM:+0200
TZOFFSETTO:+0300
TZNAME:EEST
DTSTART:20220327T010000
END:DAYLIGHT
BEGIN:STANDARD
TZOFFSETFROM:+0300
TZOFFSETTO:+0200
TZNAME:EET
DTSTART:20221030T010000
END:STANDARD
BEGIN:DAYLIGHT
TZOFFSETFROM:+0200
TZOFFSETTO:+0300
TZNAME:EEST
DTSTART:20230326T010000
END:DAYLIGHT
BEGIN:STANDARD
TZOFFSETFROM:+0300
TZOFFSETTO:+0200
TZNAME:EET
DTSTART:20231029T010000
END:STANDARD
BEGIN:DAYLIGHT
TZOFFSETFROM:+0200
TZOFFSETTO:+0300
TZNAME:EEST
DTSTART:20240331T010000
END:DAYLIGHT
BEGIN:STANDARD
TZOFFSETFROM:+0300
TZOFFSETTO:+0200
TZNAME:EET
DTSTART:20241027T010000
END:STANDARD
END:VTIMEZONE
BEGIN:VEVENT
DTSTART;TZID=Europe/Helsinki:20230602T180000
DTEND;TZID=Europe/Helsinki:20230602T180000
DTSTAMP:20260420T071811
CREATED:20230509T103330Z
LAST-MODIFIED:20230509T103330Z
UID:982-1685728800-1685728800@afd-hannover-land.de
SUMMARY:Vortrag Hans Schulze
DESCRIPTION:Hans Schulze wurde für 13 Monate in Berlin-Hohenschönhausen inhaftiert und spricht heute über seine Erlebnisse als Zeitzeuge und Opfer einer Stasi-Agentin. \n„Ich wurde am 06. September 1986 als Westberliner Geschäftsmann bei der Ausreise aus der DDR verhaftet. Der Vorwurf lautete auf Spionage.“ so der Zeitzeuge. \nAnmeldung unter: s.derose72@web.de
URL:https://afd-hannover-land.de/event/vortrag-hans-schulze/
LOCATION:30855 Langenhagen
END:VEVENT
END:VCALENDAR