BEGIN:VCALENDAR
VERSION:2.0
PRODID:-//AfD Kreisverband Hannover-Land - ECPv6.15.20//NONSGML v1.0//EN
CALSCALE:GREGORIAN
METHOD:PUBLISH
X-WR-CALNAME:AfD Kreisverband Hannover-Land
X-ORIGINAL-URL:https://afd-hannover-land.de
X-WR-CALDESC:Veranstaltungen für AfD Kreisverband Hannover-Land
REFRESH-INTERVAL;VALUE=DURATION:PT1H
X-Robots-Tag:noindex
X-PUBLISHED-TTL:PT1H
BEGIN:VTIMEZONE
TZID:Europe/Helsinki
BEGIN:DAYLIGHT
TZOFFSETFROM:+0200
TZOFFSETTO:+0300
TZNAME:EEST
DTSTART:20220327T010000
END:DAYLIGHT
BEGIN:STANDARD
TZOFFSETFROM:+0300
TZOFFSETTO:+0200
TZNAME:EET
DTSTART:20221030T010000
END:STANDARD
BEGIN:DAYLIGHT
TZOFFSETFROM:+0200
TZOFFSETTO:+0300
TZNAME:EEST
DTSTART:20230326T010000
END:DAYLIGHT
BEGIN:STANDARD
TZOFFSETFROM:+0300
TZOFFSETTO:+0200
TZNAME:EET
DTSTART:20231029T010000
END:STANDARD
BEGIN:DAYLIGHT
TZOFFSETFROM:+0200
TZOFFSETTO:+0300
TZNAME:EEST
DTSTART:20240331T010000
END:DAYLIGHT
BEGIN:STANDARD
TZOFFSETFROM:+0300
TZOFFSETTO:+0200
TZNAME:EET
DTSTART:20241027T010000
END:STANDARD
END:VTIMEZONE
BEGIN:VEVENT
DTSTART;TZID=Europe/Helsinki:20230525T180000
DTEND;TZID=Europe/Helsinki:20230525T180000
DTSTAMP:20260420T082947
CREATED:20230509T101632Z
LAST-MODIFIED:20230509T103415Z
UID:972-1685037600-1685037600@afd-hannover-land.de
SUMMARY:Stammtisch Neustadt a. Rbge.
DESCRIPTION:Der Stadtverband lädt zum Stammtisch am 25.05.2023 um 18:00 Uhr im Raum Neustadt ein! \nAls Gastredner wird Landesschatzmeister Peer Lilienthal\, MdL\, vor Ort sein. Er wird die Vor\,- und Nachteile zwischen Mitgliederparteitagen und Delegiertenparteitagen aufzeigen. \nAnmeldung unter: rocco.kever@afd-hannover-land.de
URL:https://afd-hannover-land.de/event/ratsstammtisch-gehrden/
LOCATION:31535 Neustadt a. Rbge.
END:VEVENT
END:VCALENDAR