BEGIN:VCALENDAR
VERSION:2.0
PRODID:-//AfD Kreisverband Hannover-Land - ECPv6.15.20//NONSGML v1.0//EN
CALSCALE:GREGORIAN
METHOD:PUBLISH
X-ORIGINAL-URL:https://afd-hannover-land.de
X-WR-CALDESC:Veranstaltungen für AfD Kreisverband Hannover-Land
REFRESH-INTERVAL;VALUE=DURATION:PT1H
X-Robots-Tag:noindex
X-PUBLISHED-TTL:PT1H
BEGIN:VTIMEZONE
TZID:Europe/Helsinki
BEGIN:DAYLIGHT
TZOFFSETFROM:+0200
TZOFFSETTO:+0300
TZNAME:EEST
DTSTART:20220327T010000
END:DAYLIGHT
BEGIN:STANDARD
TZOFFSETFROM:+0300
TZOFFSETTO:+0200
TZNAME:EET
DTSTART:20221030T010000
END:STANDARD
BEGIN:DAYLIGHT
TZOFFSETFROM:+0200
TZOFFSETTO:+0300
TZNAME:EEST
DTSTART:20230326T010000
END:DAYLIGHT
BEGIN:STANDARD
TZOFFSETFROM:+0300
TZOFFSETTO:+0200
TZNAME:EET
DTSTART:20231029T010000
END:STANDARD
BEGIN:DAYLIGHT
TZOFFSETFROM:+0200
TZOFFSETTO:+0300
TZNAME:EEST
DTSTART:20240331T010000
END:DAYLIGHT
BEGIN:STANDARD
TZOFFSETFROM:+0300
TZOFFSETTO:+0200
TZNAME:EET
DTSTART:20241027T010000
END:STANDARD
END:VTIMEZONE
BEGIN:VEVENT
DTSTART;TZID=Europe/Helsinki:20230517T183000
DTEND;TZID=Europe/Helsinki:20230517T183000
DTSTAMP:20260420T083330
CREATED:20230509T101319Z
LAST-MODIFIED:20230509T103508Z
UID:969-1684348200-1684348200@afd-hannover-land.de
SUMMARY:Stammtisch Wunstorf
DESCRIPTION:Der regelmäßige Stammtisch der AfD Wunstorf findet am Mittwoch\, 17.05.2023 um 18:30 Uhr statt. \nNeben der Stadtverbandsvorsitzenden Jessica Schülke\, MdL\, wird auch der Kreisverbandsvorsitzender Dirk Brandes\, MdB\, zu Wort kommen. \nAnmeldung unter: ma01.Schuelke.afd@gmx.de
URL:https://afd-hannover-land.de/event/stammtisch-wunstorf/
LOCATION:31515 Wunstorf\, Strandterrassen\, Steinhude
END:VEVENT
END:VCALENDAR