BEGIN:VCALENDAR
VERSION:2.0
PRODID:-//AfD Kreisverband Hannover-Land - ECPv6.15.20//NONSGML v1.0//EN
CALSCALE:GREGORIAN
METHOD:PUBLISH
X-WR-CALNAME:AfD Kreisverband Hannover-Land
X-ORIGINAL-URL:https://afd-hannover-land.de
X-WR-CALDESC:Veranstaltungen für AfD Kreisverband Hannover-Land
REFRESH-INTERVAL;VALUE=DURATION:PT1H
X-Robots-Tag:noindex
X-PUBLISHED-TTL:PT1H
BEGIN:VTIMEZONE
TZID:Europe/Helsinki
BEGIN:DAYLIGHT
TZOFFSETFROM:+0200
TZOFFSETTO:+0300
TZNAME:EEST
DTSTART:20220327T010000
END:DAYLIGHT
BEGIN:STANDARD
TZOFFSETFROM:+0300
TZOFFSETTO:+0200
TZNAME:EET
DTSTART:20221030T010000
END:STANDARD
BEGIN:DAYLIGHT
TZOFFSETFROM:+0200
TZOFFSETTO:+0300
TZNAME:EEST
DTSTART:20230326T010000
END:DAYLIGHT
BEGIN:STANDARD
TZOFFSETFROM:+0300
TZOFFSETTO:+0200
TZNAME:EET
DTSTART:20231029T010000
END:STANDARD
BEGIN:DAYLIGHT
TZOFFSETFROM:+0200
TZOFFSETTO:+0300
TZNAME:EEST
DTSTART:20240331T010000
END:DAYLIGHT
BEGIN:STANDARD
TZOFFSETFROM:+0300
TZOFFSETTO:+0200
TZNAME:EET
DTSTART:20241027T010000
END:STANDARD
END:VTIMEZONE
BEGIN:VEVENT
DTSTART;TZID=Europe/Helsinki:20230513T100000
DTEND;TZID=Europe/Helsinki:20230513T130000
DTSTAMP:20260420T082949
CREATED:20230509T100834Z
LAST-MODIFIED:20230509T112824Z
UID:966-1683972000-1683982800@afd-hannover-land.de
SUMMARY:Infostand in Hannover
DESCRIPTION:Gemeinsam mit unseren Freunden der AfD Hannover-Stadt sind wir in der Zeit von 10:00 Uhr bis 13:00 Uhr für Gespräche mit dem Bürger am Kröpcke und am Hauptbahnhof Hannover anzutreffen. \nAls Gastredner dürfen Sie u.a. \n– Carsten Hilse\, MdB\n– Michael Ballweg\n– Ralf Ludwig \nerwarten. \nWir freuen uns auf Ihren Besuch!
URL:https://afd-hannover-land.de/event/infostand-in-hannover/
LOCATION:Hannover HBF / Kröpcke
END:VEVENT
END:VCALENDAR